BEGIN:VCALENDAR
VERSION:2.0
PRODID:icalendar-ruby
CALSCALE:GREGORIAN
NAME:WHM
X-WR-CALNAME:WHM
URL:https://whm.adventist.org.pg/calendars/1316/feed
REFRESH-INTERVAL;VALUE=DURATION:P1D
X-PUBLISHED-TTL:P1D
BEGIN:VTIMEZONE
TZID:Pacific/Port_Moresby
BEGIN:DAYLIGHT
DTSTART:20380119T131407
TZOFFSETFROM:+1000
TZOFFSETTO:+1000
RRULE:FREQ=YEARLY;BYDAY=3TU;BYMONTH=1
TZNAME:+10
END:DAYLIGHT
BEGIN:STANDARD
DTSTART:18950101T001128
TZOFFSETFROM:+0948
TZOFFSETTO:+1000
RRULE:FREQ=YEARLY;BYDAY=1TU;BYMONTH=1
TZNAME:+10
END:STANDARD
END:VTIMEZONE
BEGIN:VEVENT
DTSTAMP:20210812T025102Z
UID:dabe1cfe-4322-406d-a0cd-e02c1f256125
DTSTART;TZID=Pacific/Port_Moresby:20210809T180000
DTEND;TZID=Pacific/Port_Moresby:20210814T160000
DESCRIPTION:Jiwaka Provincial Camp Meeting for Jiwaka Provincial Adventists
LOCATION:Jiwaka
SUMMARY:Jiwaka Provincial Camp Meeting
END:VEVENT
END:VCALENDAR
